BEGIN:VCALENDAR
VERSION:2.0
PRODID:-//VVW Wahlscheid - ECPv6.15.18//NONSGML v1.0//EN
CALSCALE:GREGORIAN
METHOD:PUBLISH
X-WR-CALNAME:VVW Wahlscheid
X-ORIGINAL-URL:https://wahlscheid.de
X-WR-CALDESC:Veranstaltungen für VVW Wahlscheid
REFRESH-INTERVAL;VALUE=DURATION:PT1H
X-Robots-Tag:noindex
X-PUBLISHED-TTL:PT1H
BEGIN:VTIMEZONE
TZID:Europe/Berlin
BEGIN:DAYLIGHT
TZOFFSETFROM:+0100
TZOFFSETTO:+0200
TZNAME:CEST
DTSTART:20250330T010000
END:DAYLIGHT
BEGIN:STANDARD
TZOFFSETFROM:+0200
TZOFFSETTO:+0100
TZNAME:CET
DTSTART:20251026T010000
END:STANDARD
BEGIN:DAYLIGHT
TZOFFSETFROM:+0100
TZOFFSETTO:+0200
TZNAME:CEST
DTSTART:20260329T010000
END:DAYLIGHT
BEGIN:STANDARD
TZOFFSETFROM:+0200
TZOFFSETTO:+0100
TZNAME:CET
DTSTART:20261025T010000
END:STANDARD
BEGIN:DAYLIGHT
TZOFFSETFROM:+0100
TZOFFSETTO:+0200
TZNAME:CEST
DTSTART:20270328T010000
END:DAYLIGHT
BEGIN:STANDARD
TZOFFSETFROM:+0200
TZOFFSETTO:+0100
TZNAME:CET
DTSTART:20271031T010000
END:STANDARD
END:VTIMEZONE
BEGIN:VEVENT
DTSTART;TZID=Europe/Berlin:20260404T140000
DTEND;TZID=Europe/Berlin:20260404T150000
DTSTAMP:20260423T222341
CREATED:20260309T042409Z
LAST-MODIFIED:20260309T042409Z
UID:225081-1775311200-1775314800@wahlscheid.de
SUMMARY:Backtag im Backes
DESCRIPTION:Einmal im Monat wird im Wahlscheider Backes nach alter Tradition gebacken. Der historische\, mit Holz befeuerte Holzofen sorgt für besondere Aromen und echtes Handwerk. Beim gemeinsamen Backen wird die traditionelle Backkunst lebendig gehalten und gleichzeitig ein Stück regionaler Geschichte und Gemeinschaft im Ort gepflegt. 🍞🔥 \nDie Brote müssen bis Freitag Mittags am Vortag online bestellt werden! \nIhr könnt die vorbestellten Brote am Samstag zwischen 14:00 und 15:00 Uhr am Backes in Schönenberg abholen. \nHier könnt Ihr die Brote bestellen: \nhttps://wahlscheid.de/shop/ \nAnsprechpartner: Andreas Golze E-Mail: backes@wahlscheid.de
URL:https://wahlscheid.de/event/backtag-im-backes/
LOCATION:Backes des VVW\, Schönenberg\, Wahlscheid\, 53797\, Germany
CATEGORIES:Backen
ATTACH;FMTTYPE=image/jpeg:https://wahlscheid.de/wp-content/uploads/2025/02/Blatz-ohne-Rosinen.jpg
END:VEVENT
END:VCALENDAR