BEGIN:VCALENDAR
VERSION:2.0
PRODID:-//VVW Wahlscheid - ECPv6.15.18//NONSGML v1.0//EN
CALSCALE:GREGORIAN
METHOD:PUBLISH
X-WR-CALNAME:VVW Wahlscheid
X-ORIGINAL-URL:https://wahlscheid.de
X-WR-CALDESC:Veranstaltungen für VVW Wahlscheid
REFRESH-INTERVAL;VALUE=DURATION:PT1H
X-Robots-Tag:noindex
X-PUBLISHED-TTL:PT1H
BEGIN:VTIMEZONE
TZID:Europe/Berlin
BEGIN:DAYLIGHT
TZOFFSETFROM:+0100
TZOFFSETTO:+0200
TZNAME:CEST
DTSTART:20250330T010000
END:DAYLIGHT
BEGIN:STANDARD
TZOFFSETFROM:+0200
TZOFFSETTO:+0100
TZNAME:CET
DTSTART:20251026T010000
END:STANDARD
BEGIN:DAYLIGHT
TZOFFSETFROM:+0100
TZOFFSETTO:+0200
TZNAME:CEST
DTSTART:20260329T010000
END:DAYLIGHT
BEGIN:STANDARD
TZOFFSETFROM:+0200
TZOFFSETTO:+0100
TZNAME:CET
DTSTART:20261025T010000
END:STANDARD
BEGIN:DAYLIGHT
TZOFFSETFROM:+0100
TZOFFSETTO:+0200
TZNAME:CEST
DTSTART:20270328T010000
END:DAYLIGHT
BEGIN:STANDARD
TZOFFSETFROM:+0200
TZOFFSETTO:+0100
TZNAME:CET
DTSTART:20271031T010000
END:STANDARD
END:VTIMEZONE
BEGIN:VEVENT
DTSTART;TZID=Europe/Berlin:20260318T190000
DTEND;TZID=Europe/Berlin:20260318T213000
DTSTAMP:20260423T104646
CREATED:20260308T153422Z
LAST-MODIFIED:20260308T153429Z
UID:224972-1773860400-1773869400@wahlscheid.de
SUMMARY:Vortrag: Ein halbes Jahr auf dem Jakobsweg
DESCRIPTION:Von Köln über Santiago de Compostela bis nach Finisterre legten 2 Lohmarerinnen mit ihrem Pferd GoGo über 3000 Kilometer zurück. Sie zeigen ihren Film über eine halbjährige Reise voller Herausforderungen\, Begegnungen und dem Vertrauen\, das sie Schritt für Schritt getragen hat. \nTreffpunkt: Gemeindehaus Ev. Kirche\, Wahlscheid \nAnnika Mörser\, Eileen Becker
URL:https://wahlscheid.de/event/vortrag-ein-halbes-jahr-auf-dem-jakobsweg/
LOCATION:Gemeindehaus Ev. Kirche Wahlscheid\, Bartholomäusstrasse 6\, Lohmar\, NRW\, 53797\, Germany
ATTACH;FMTTYPE=application/pdf:https://wahlscheid.de/wp-content/uploads/2026/03/Jakobsweg-Vortrag-2026-1.pdf
END:VEVENT
BEGIN:VEVENT
DTSTART;TZID=Europe/Berlin:20260319T190000
DTEND;TZID=Europe/Berlin:20260319T210000
DTSTAMP:20260423T104646
CREATED:20260309T042821Z
LAST-MODIFIED:20260327T031420Z
UID:225084-1773946800-1773954000@wahlscheid.de
SUMMARY:VVW-Stammtisch\, Aueler Hof
DESCRIPTION:Offener Stammtisch in ungezwungener Runde mit Austausch über aktuelle Termine des VVW   sowie über unser Leben in Wahlscheid. Anregungen zu neuen Aktivitäten werden bei diesen Gesprächen gerne aufgenommen. Voranmeldung ist nicht erforderlich\, wer „kütt der kütt“! \nAnsprechpartner: Sandra Eimermacher \n 
URL:https://wahlscheid.de/event/vvw-stammtisch-aueler-hof/
LOCATION:Aueler Hof\, Wahlscheider Str. 8\, Lohmar\, 53797\, Germany
ATTACH;FMTTYPE=image/jpeg:https://wahlscheid.de/wp-content/uploads/2025/03/Auler-Hof.jpeg
END:VEVENT
BEGIN:VEVENT
DTSTART;TZID=Europe/Berlin:20260321T090000
DTEND;TZID=Europe/Berlin:20260321T140000
DTSTAMP:20260423T104646
CREATED:20260308T091443Z
LAST-MODIFIED:20260308T091453Z
UID:224924-1774083600-1774101600@wahlscheid.de
SUMMARY:„Lohmar fegt los!“
DESCRIPTION:Unter dem Motto „Lohmar fegt los!“ findet jährlich traditionell eine große Müllsammelaktion in Lohmar statt. Der VVW ist dabei und sammelt in und um Wahlscheid gemeinsam mit dem Fischereiverein. \nJede/r kann mitmachen\, wir freuen uns über viele helfende Hände! \nAbschließend gemeinsames Mittagessen im Aueler Hof \nTreffpunkt ist der Parkplatz am Aueler Hof
URL:https://wahlscheid.de/event/lohmar-fegt-los-2/
LOCATION:Aueler Hof\, Wahlscheider Str. 8\, Lohmar\, 53797\, Germany
ATTACH;FMTTYPE=image/jpeg:https://wahlscheid.de/wp-content/uploads/2025/03/Lohmar-Fegt-Los.jpeg
END:VEVENT
END:VCALENDAR