BEGIN:VCALENDAR
VERSION:2.0
PRODID:-//VVW Wahlscheid - ECPv6.15.18//NONSGML v1.0//EN
CALSCALE:GREGORIAN
METHOD:PUBLISH
X-WR-CALNAME:VVW Wahlscheid
X-ORIGINAL-URL:https://wahlscheid.de
X-WR-CALDESC:Veranstaltungen für VVW Wahlscheid
REFRESH-INTERVAL;VALUE=DURATION:PT1H
X-Robots-Tag:noindex
X-PUBLISHED-TTL:PT1H
BEGIN:VTIMEZONE
TZID:Europe/Berlin
BEGIN:DAYLIGHT
TZOFFSETFROM:+0100
TZOFFSETTO:+0200
TZNAME:CEST
DTSTART:20250330T010000
END:DAYLIGHT
BEGIN:STANDARD
TZOFFSETFROM:+0200
TZOFFSETTO:+0100
TZNAME:CET
DTSTART:20251026T010000
END:STANDARD
BEGIN:DAYLIGHT
TZOFFSETFROM:+0100
TZOFFSETTO:+0200
TZNAME:CEST
DTSTART:20260329T010000
END:DAYLIGHT
BEGIN:STANDARD
TZOFFSETFROM:+0200
TZOFFSETTO:+0100
TZNAME:CET
DTSTART:20261025T010000
END:STANDARD
BEGIN:DAYLIGHT
TZOFFSETFROM:+0100
TZOFFSETTO:+0200
TZNAME:CEST
DTSTART:20270328T010000
END:DAYLIGHT
BEGIN:STANDARD
TZOFFSETFROM:+0200
TZOFFSETTO:+0100
TZNAME:CET
DTSTART:20271031T010000
END:STANDARD
END:VTIMEZONE
BEGIN:VEVENT
DTSTART;TZID=Europe/Berlin:20260402T180000
DTEND;TZID=Europe/Berlin:20260402T200000
DTSTAMP:20260424T011136
CREATED:20260308T151458Z
LAST-MODIFIED:20260327T025741Z
UID:224968-1775152800-1775160000@wahlscheid.de
SUMMARY:Gemeinsam gegen die Herklusstaude im Aggertal
DESCRIPTION:  \nIm Aggertal bei Wahlscheid breitet sich zunehmend die sogenannte Herkulesstaude (auch Riesen-Bärenklau genannt) aus. Diese invasive Pflanze stellt eine Gefahr für die heimische Natur und auch für Menschen dar. Ihr Pflanzensaft kann bei Hautkontakt in Verbindung mit Sonnenlicht schwere Hautreizungen und Verbrennungen verursachen. Zudem verdrängt die Herkulesstaude heimische Pflanzenarten und beeinträchtigt so das ökologische Gleichgewicht unserer Landschaft. \nUm die weitere Ausbreitung einzudämmen\, möchten wir gemeinsam aktiv werden und die Pflanzen im Aggertal beseitigen. Dafür suchen wir engagierte Helferinnen und Helfer\, die sich an einer gemeinsamen Aktion zur Bekämpfung der Herkulesstaude beteiligen möchten. \nJede helfende Hand zählt! Durch das gezielte Entfernen der Pflanzen – möglichst vor der Samenbildung – können wir einen wichtigen Beitrag zum Schutz unserer Natur leisten. \nWenn Sie Interesse haben\, sich an der Aktion zu beteiligen\, freuen wir uns über Ihre Unterstützung. Gemeinsam können wir dafür sorgen\, dass das Aggertal bei Wahlscheid auch künftig ein wertvoller Lebensraum für Mensch und Natur bleibt. \nAnsprechpartner: Norbert Jaixen und Frauke Möschler \n 
URL:https://wahlscheid.de/event/gemeinsam-gegen-die-herklusstaude-im-aggertal/
LOCATION:Mein Kräutergarten\, Wahlscheider Str. 50\, Lohmar\, NRW\, 53797\, Germany
ATTACH;FMTTYPE=image/jpeg:https://wahlscheid.de/wp-content/uploads/2025/01/Herkulesstaude.jpeg
END:VEVENT
END:VCALENDAR