BEGIN:VCALENDAR
VERSION:2.0
PRODID:-//VVW Wahlscheid - ECPv6.15.18//NONSGML v1.0//EN
CALSCALE:GREGORIAN
METHOD:PUBLISH
X-WR-CALNAME:VVW Wahlscheid
X-ORIGINAL-URL:https://wahlscheid.de
X-WR-CALDESC:Veranstaltungen für VVW Wahlscheid
REFRESH-INTERVAL;VALUE=DURATION:PT1H
X-Robots-Tag:noindex
X-PUBLISHED-TTL:PT1H
BEGIN:VTIMEZONE
TZID:Europe/Berlin
BEGIN:DAYLIGHT
TZOFFSETFROM:+0100
TZOFFSETTO:+0200
TZNAME:CEST
DTSTART:20250330T010000
END:DAYLIGHT
BEGIN:STANDARD
TZOFFSETFROM:+0200
TZOFFSETTO:+0100
TZNAME:CET
DTSTART:20251026T010000
END:STANDARD
BEGIN:DAYLIGHT
TZOFFSETFROM:+0100
TZOFFSETTO:+0200
TZNAME:CEST
DTSTART:20260329T010000
END:DAYLIGHT
BEGIN:STANDARD
TZOFFSETFROM:+0200
TZOFFSETTO:+0100
TZNAME:CET
DTSTART:20261025T010000
END:STANDARD
BEGIN:DAYLIGHT
TZOFFSETFROM:+0100
TZOFFSETTO:+0200
TZNAME:CEST
DTSTART:20270328T010000
END:DAYLIGHT
BEGIN:STANDARD
TZOFFSETFROM:+0200
TZOFFSETTO:+0100
TZNAME:CET
DTSTART:20271031T010000
END:STANDARD
END:VTIMEZONE
BEGIN:VEVENT
DTSTART;TZID=Europe/Berlin:20260412T110000
DTEND;TZID=Europe/Berlin:20260412T150000
DTSTAMP:20260423T140214
CREATED:20260308T161109Z
LAST-MODIFIED:20260308T161116Z
UID:224957-1775991600-1776006000@wahlscheid.de
SUMMARY:Wanderung Schlingenbachtal
DESCRIPTION:Vom Wanderparkplatz gehen wir über Hintersteimel und  Rottland hinunter ins Schlingenbachtal. Von dort geht es Richtung Linde und über Dahl wieder zurück ins Schlingenbachtal\, welches wir jetzt in entgegengesetzter Richtung entlang der Schlingenbachwiesen in Richtung Schalken wandern. Kurz vor den Schalker Siefen geht es zurück zum Wanderparkplatz nach Hülsen. Ca. 11 km und 375 Höhenmeter (die Tour lässt sich nach Absprache mit den Teilnehmern auf ca. 7-8 km verkürzen). \nTreffpunkt: Wanderparkplatz Engelskirchen-Hülsen\, Anfahrt über Marialinden oder Vilkerath\, abbiegen von der L153 bei „Hülsen 9“ \nAnsprechpartner: Marion Jacob
URL:https://wahlscheid.de/event/wanderung-schlingenbachtal/
ATTACH;FMTTYPE=image/jpeg:https://wahlscheid.de/wp-content/uploads/2026/03/Schlingenbachtal.jpg
END:VEVENT
END:VCALENDAR